BEGIN:VCALENDAR
VERSION:2.0
PRODID:-//ChamberMaster//Event Calendar 2.0//EN
METHOD:PUBLISH
X-PUBLISHED-TTL:P3D
REFRESH-INTERVAL:P3D
CALSCALE:GREGORIAN
BEGIN:VEVENT
DTSTART;VALUE=DATE:20200630
DTEND;VALUE=DATE:20200701
TRANSP:TRANSPARENT
X-MICROSOFT-CDO-ALLDAYEVENT:TRUE
SUMMARY:RCF 2020 Scholarship
DESCRIPTION:The Rainbow Chamber Foundation Scholarship \n\nprovides scholarships for LGBTQ Students & Allies!\n\n	Funds available to LGBTQ and LGBTQ-supportive scholars                                                            \n	Must reside in or plan to attend university\, college\, or school in Amador\, Butte\, Calaveras\, Colusa\, El Dorado\, Nevada\,Placer\, Plumas\, Sacramento\, San Joaquin\, Sierra\, Solano\,Stanislaus\, Sutter\, Tuolumne\, Yolo\, or Yuba counties                                   \n	Must be currently enrolled in 12th grade high school or university\, college\,or qualified vocational school by Fall 2020.
X-ALT-DESC;FMTTYPE=text/html:<em><strong>The Rainbow Chamber Foundation Scholarship&nbsp\;</strong></em><br />\nprovides scholarships for LGBTQ Students &amp\; Allies!\n<ul>\n	<li><span style="font-size:14px\;">Funds available to LGBTQ and LGBTQ-supportive scholars&nbsp\; &nbsp\; &nbsp\; &nbsp\; &nbsp\; &nbsp\; &nbsp\; &nbsp\; &nbsp\; &nbsp\; &nbsp\; &nbsp\; &nbsp\; &nbsp\; &nbsp\; &nbsp\; &nbsp\; &nbsp\; &nbsp\; &nbsp\; &nbsp\; &nbsp\; &nbsp\; &nbsp\; &nbsp\; &nbsp\; &nbsp\; &nbsp\; &nbsp\; &nbsp\;&nbsp\;</span></li>\n	<li><span style="font-size:14px\;">Must reside in or plan to attend university\, college\, or school in</span>&nbsp\;<span style="font-size:12px\;"><em>Amador\, Butte\, Calaveras\, Colusa\, El Dorado\, Nevada\,Placer\, Plumas\, Sacramento\, San Joaquin\, Sierra\, Solano\,Stanislaus\, Sutter\, Tuolumne\, Yolo\, or Yuba</em> counties&nbsp\; &nbsp\; &nbsp\; &nbsp\; &nbsp\; &nbsp\; &nbsp\; &nbsp\; &nbsp\; &nbsp\; &nbsp\; &nbsp\; &nbsp\; &nbsp\; &nbsp\; &nbsp\; &nbsp\; &nbsp\;</span></li>\n	<li><span style="font-size:14px\;">Must be currently enrolled in 12th grade high school&nbsp\;or university\, college\,or qualified vocational school by Fall 2020.</span></li>\n</ul>\n
LOCATION:Scholarship Application: https://www.rainbowchamber.com/scholarship-program/
UID:e.2040.1180
SEQUENCE:3
DTSTAMP:20260421T101417Z
URL:http://rainbowchamber.chambermaster.com/events/details/rcf-2020-scholarship-1180
END:VEVENT

END:VCALENDAR
