BEGIN:VCALENDAR
VERSION:2.0
PRODID:-//ChamberMaster//Event Calendar 2.0//EN
METHOD:PUBLISH
X-PUBLISHED-TTL:P3D
REFRESH-INTERVAL:P3D
CALSCALE:GREGORIAN
BEGIN:VEVENT
DTSTART:20200515T003000Z
DTEND:20200515T013000Z
X-MICROSOFT-CDO-ALLDAYEVENT:FALSE
SUMMARY:Pride 2020 KickOff Community Call
DESCRIPTION:PRIDE 2020: Community Call & Rally\n\nThursday\, May 14th 5:30pm\n\nFeaturing Speical Guests:\n\nMayor Darrell Steinberg\n\nCouncilmember Steve Hansen\n\nFred Palmer\, Outword Magazine\n\nDavid Heiststuman\, SAC LGBT Center\n\nSisters of Perpetual Indulgence
X-ALT-DESC;FMTTYPE=text/html:<span style="font-size:16px\;"><strong><u>PRIDE 2020: Community Call &amp\; Rally</u><br />\nThursday\, May 14th 5:30pm</strong></span><br />\nFeaturing Speical Guests:<br />\nMayor Darrell Steinberg<br />\nCouncilmember Steve Hansen<br />\nFred Palmer\, Outword Magazine<br />\nDavid Heiststuman\, SAC LGBT Center<br />\nSisters of Perpetual Indulgence
LOCATION:Join us Live at the link Below! https://youtu.be/QiP0WMwoGPc Outword Facebook https://www.facebook.com/OutwordMagazine/ Outword YouTube https://www.youtube.com/channel/UCwsCrmtEGrcbIPr_nwKdUnQ
UID:e.2040.1215
SEQUENCE:3
DTSTAMP:20260420T052315Z
URL:http://rainbowchamber.chambermaster.com/events/details/pride-2020-kickoff-community-call-1215
END:VEVENT

END:VCALENDAR
