BEGIN:VCALENDAR
VERSION:2.0
PRODID:-//ChamberMaster//Event Calendar 2.0//EN
METHOD:PUBLISH
X-PUBLISHED-TTL:P3D
REFRESH-INTERVAL:P3D
CALSCALE:GREGORIAN
BEGIN:VEVENT
DTSTART:20191120T020000Z
DTEND:20191120T033000Z
X-MICROSOFT-CDO-ALLDAYEVENT:FALSE
SUMMARY:November Mixer & Reception
DESCRIPTION:Mix and mingle with fellow business owners and professionals at our November Business Networking Mixer!
X-ALT-DESC;FMTTYPE=text/html:<p>Mix and mingle with fellow business owners and professionals at our November Business Networking Mixer!<br />\n<br />\n&nbsp\;</p>\n
LOCATION:FACES 2000 K St Sacramento\, CA 95811
UID:e.2040.1154
SEQUENCE:3
DTSTAMP:20260425T135144Z
URL:http://rainbowchamber.chambermaster.com/events/details/november-mixer-reception-1154
END:VEVENT

END:VCALENDAR
