BEGIN:VCALENDAR
VERSION:2.0
PRODID:-//ChamberMaster//Event Calendar 2.0//EN
METHOD:PUBLISH
X-PUBLISHED-TTL:P3D
REFRESH-INTERVAL:P3D
CALSCALE:GREGORIAN
BEGIN:VEVENT
DTSTART:20200429T190000Z
DTEND:20200429T200000Z
X-MICROSOFT-CDO-ALLDAYEVENT:FALSE
SUMMARY:Member Power Lunch with SBA
DESCRIPTION:Please join us Wednesday\, April 29th 12p - 1p for a Power Lunch with the Small Business Adminstration featuring Carrie Ellinwood\, Acting Deputy District Director.\n\nDiscussion with include SBA Loans\, Paycheck Protection Program\, and other SBA related topics.
X-ALT-DESC;FMTTYPE=text/html:<span style="color:#403F42\;"><span style="font-family:arial\,sans-serif\;"><span style="font-size:10.5pt\;">Please join us Wednesday\, April 29th 12p - 1p for a Power Lunch with the Small Business Adminstration featuring Carrie Ellinwood\, Acting Deputy District Director.</span></span></span><br />\n<span style="color:#403F42\;"><span style="font-family:arial\,sans-serif\;"><span style="font-size:10.5pt\;">Discussion with include SBA Loans\, Paycheck Protection Program\, and other SBA related topics.</span></span></span>
LOCATION:Register in advance for this meeting: https://us02web.zoom.us/meeting/register/tZcuduChqzIuGtxwnj0sj7bzMG_PDgJeS1fi After registering\, you will receive a confirmation email containing information about joining the meeting.
UID:e.2040.1213
SEQUENCE:3
DTSTAMP:20260422T095517Z
URL:http://rainbowchamber.chambermaster.com/events/details/member-power-lunch-with-sba-1213
END:VEVENT

END:VCALENDAR
