BEGIN:VCALENDAR
VERSION:2.0
PRODID:-//ChamberMaster//Event Calendar 2.0//EN
METHOD:PUBLISH
X-PUBLISHED-TTL:P3D
REFRESH-INTERVAL:P3D
CALSCALE:GREGORIAN
BEGIN:VEVENT
DTSTART:20200819T003000Z
DTEND:20200819T033000Z
X-MICROSOFT-CDO-ALLDAYEVENT:FALSE
SUMMARY:EQCA Equality Awards
DESCRIPTION:Equality California's Sacramento Equality Awards brings together legislators\, constitutional officers\, legislative analysts and advocates\, and supporters from the community to honor the inspirational leaders and outstanding allied organizations whose selfless work helps create a better world for the LGBTQ community and all people.\n\n\n\nJoin EQCA for this lavish cocktail party taking place in the Grand Entrance of the state-of-the-art Golden 1 Center\, just steps away from the Capitol.\n\n\n\nFor additional information contact events@eqca.org
X-ALT-DESC;FMTTYPE=text/html:<p style="box-sizing: inherit\; -webkit-font-smoothing: antialiased\; text-rendering: optimizelegibility\; text-shadow: rgba(0\, 0\, 0\, 0.004) 1px 1px 1px\; transition: color 0.15s ease 0s\, border-bottom 0.15s ease 0s\, background-color 0.15s ease 0s\, fill 0.15s ease 0s\, background-size 0.15s ease 0s\, background-position 0.15s ease 0s\, opacity 0.15s ease 0s\, box-shadow 0.15s ease 0s\, padding 0.15s ease 0s\, margin 0.15s ease 0s\, height 0.15s ease 0s\, top 0.15s ease 0s\, left 0.15s ease 0s\, width 0.15s ease 0s\, transform 0.15s ease 0s\; font-family: Geogrotesque\, Calibri\, Arial\, sans-serif\; margin: 1.25em 0px\; color: rgb(44\, 42\, 41)\; font-size: 20px\;">Equality California&rsquo\;s Sacramento Equality Awards brings together legislators\, constitutional officers\, legislative analysts and advocates\, and supporters from the community to honor the inspirational leaders and outstanding allied organizations whose selfless work helps create a better world for the LGBTQ community and all people.<br />\n<br />\nJoin EQCA for this lavish cocktail party taking place in the Grand Entrance of the state-of-the-art Golden 1 Center\, just steps away from the Capitol.<br />\n<br />\nFor additional information contact&nbsp\;<a href="mailto:events@eqca.org" style="box-sizing: inherit\; -webkit-font-smoothing: antialiased\; text-rendering: optimizelegibility\; text-shadow: rgba(0\, 0\, 0\, 0.004) 1px 1px 1px\; transition: color 0.15s ease 0s\, border-bottom 0.15s ease 0s\, background-color 0.15s ease 0s\, fill 0.15s ease 0s\, background-size 0.15s ease 0s\, background-position 0.15s ease 0s\, opacity 0.15s ease 0s\, box-shadow 0.15s ease 0s\, padding 0.15s ease 0s\, margin 0.15s ease 0s\, height 0.15s ease 0s\, top 0.15s ease 0s\, left 0.15s ease 0s\, width 0.15s ease 0s\, transform 0.15s ease 0s\; color: rgb(224\, 78\, 57)\; text-decoration-line: none\; margin-top: 0px\; margin-bottom: 0px\;">events@eqca.org</a></p>\n
LOCATION:Golden 1 Center Grand Entrance 500 David J Stern Walk Sacramento\, CA 95814
UID:e.2040.1176
SEQUENCE:3
DTSTAMP:20260419T205219Z
URL:http://rainbowchamber.chambermaster.com/events/details/eqca-equality-awards-1176
END:VEVENT

END:VCALENDAR
