BEGIN:VCALENDAR
VERSION:2.0
PRODID:-//ChamberMaster//Event Calendar 2.0//EN
METHOD:PUBLISH
X-PUBLISHED-TTL:P3D
REFRESH-INTERVAL:P3D
CALSCALE:GREGORIAN
BEGIN:VEVENT
DTSTART:20190920T000000Z
DTEND:20190920T033000Z
X-MICROSOFT-CDO-ALLDAYEVENT:FALSE
SUMMARY:Boas & Bowties 2019
DESCRIPTION:THE premier LGBTQ gala of the year!
X-ALT-DESC;FMTTYPE=text/html:THE premier LGBTQ gala of the year!
LOCATION:Sacramento Hilton Arden West 2200 Harvard St\, Sacramento\, CA 95815
UID:e.2040.876
SEQUENCE:3
DTSTAMP:20260425T193233Z
URL:http://rainbowchamber.chambermaster.com/events/details/boas-bowties-2019-876
END:VEVENT

END:VCALENDAR
