BEGIN:VCALENDAR
VERSION:2.0
PRODID:-//ChamberMaster//Event Calendar 2.0//EN
METHOD:PUBLISH
X-PUBLISHED-TTL:P3D
REFRESH-INTERVAL:P3D
CALSCALE:GREGORIAN
BEGIN:VEVENT
DTSTART;VALUE=DATE:20200131
DTEND;VALUE=DATE:20200201
TRANSP:TRANSPARENT
X-MICROSOFT-CDO-ALLDAYEVENT:TRUE
SUMMARY:2020 SMUD College Internships
DESCRIPTION:Applications will be accepted January 1 - 31\, 2020.\n\n\n\nCollege internship details:\n\n  12-week paid internship during the Summer*\n\n  Work up to 130 hours per month\n\n  Develop and enhance your leadership skills\n\n  Innovate and implement new ideas\n\n\n\nMinimum requirements:\n\n  Must be enrolled as a full-time student and maintain a minimum of a 2.0 GPA in the Spring\n\nsemester/quarter of 2020\n\n  If graduating in Summer 2020\, must be enrolled part-time in the Summer semester/quarter\n\n  If graduating in the Fall 2020\, must be enrolled as a part-time student in the Fall semester/quarter\n\n  All others must be enrolled full-time in the Fall semester/quarter of 2020\n\n  Have no more than 2 vehicle violations in the past 2 years\n\n  Have no relatives working at SMUD\n\n \n\n 0847-19   A trademark of Sacramento Municipal Utility District\, Reg. U.S. Pat. & Tm. Off.\n\n\n\n*Summer Internship Program will run May 26   Aug. 14 (semester students) OR June 22   Sept. 11 (quarter students).
X-ALT-DESC;FMTTYPE=text/html:<strong>Applications will be accepted January 1 - 31\, 2020.</strong><br />\n<br />\n<strong>College internship details:</strong><br />\n&bull\; 12-week paid internship during the Summer*<br />\n&bull\; Work up to 130 hours per month<br />\n&bull\; Develop and enhance your leadership skills<br />\n&bull\; Innovate and implement new ideas<br />\n<br />\n<strong>Minimum requirements:</strong><br />\n&bull\; Must be enrolled as a full-time student and maintain a minimum of a 2.0 GPA in the Spring<br />\nsemester/quarter of 2020<br />\n&bull\; If graduating in Summer 2020\, must be enrolled part-time in the Summer semester/quarter<br />\n&bull\; If graduating in the Fall 2020\, must be enrolled as a part-time student in the Fall semester/quarter<br />\n&bull\; All others must be enrolled full-time in the Fall semester/quarter of 2020<br />\n&bull\; Have no more than 2 vehicle violations in the past 2 years<br />\n&bull\; Have no relatives working at SMUD<br />\n&reg\;<br />\n&copy\;0847-19 &reg\; A trademark of Sacramento Municipal Utility District\, Reg. U.S. Pat. &amp\; Tm. Off.<br />\n<br />\n*Summer Internship Program will run May 26 &ndash\; Aug. 14 (semester students) OR June 22 &ndash\; Sept. 11 (quarter students).
LOCATION:To learn more\, visit smud.org/StudentJobs.
UID:e.2040.1199
SEQUENCE:3
DTSTAMP:20260425T145948Z
URL:http://rainbowchamber.chambermaster.com/events/details/2020-smud-college-internships-1199
END:VEVENT

END:VCALENDAR
